BEGIN:VCALENDAR
VERSION:2.0
PRODID:-//Vancouver Poetry House - ECPv6.15.11//NONSGML v1.0//EN
CALSCALE:GREGORIAN
METHOD:PUBLISH
X-ORIGINAL-URL:https://www.vancouverpoetryhouse.com
X-WR-CALDESC:Events for Vancouver Poetry House
REFRESH-INTERVAL;VALUE=DURATION:PT1H
X-Robots-Tag:noindex
X-PUBLISHED-TTL:PT1H
BEGIN:VTIMEZONE
TZID:America/Vancouver
BEGIN:DAYLIGHT
TZOFFSETFROM:-0800
TZOFFSETTO:-0700
TZNAME:PDT
DTSTART:20250309T100000
END:DAYLIGHT
BEGIN:STANDARD
TZOFFSETFROM:-0700
TZOFFSETTO:-0800
TZNAME:PST
DTSTART:20251102T090000
END:STANDARD
BEGIN:DAYLIGHT
TZOFFSETFROM:-0800
TZOFFSETTO:-0700
TZNAME:PDT
DTSTART:20260308T100000
END:DAYLIGHT
BEGIN:STANDARD
TZOFFSETFROM:-0700
TZOFFSETTO:-0800
TZNAME:PST
DTSTART:20261101T090000
END:STANDARD
BEGIN:DAYLIGHT
TZOFFSETFROM:-0800
TZOFFSETTO:-0700
TZNAME:PDT
DTSTART:20270314T100000
END:DAYLIGHT
BEGIN:STANDARD
TZOFFSETFROM:-0700
TZOFFSETTO:-0800
TZNAME:PST
DTSTART:20271107T090000
END:STANDARD
END:VTIMEZONE
BEGIN:VEVENT
DTSTART;TZID=America/Vancouver:20260202T190000
DTEND;TZID=America/Vancouver:20260202T220000
DTSTAMP:20260422T051627
CREATED:20260114T210343Z
LAST-MODIFIED:20260120T061101Z
UID:13344-1770058800-1770069600@www.vancouverpoetryhouse.com
SUMMARY:Vancouver Poetry Slam feat. Magpie Ulysses
DESCRIPTION:Location: Enabling Arts (343 Railway Street\, Vancouver)\nDoors: 7 pm\nSign up: 7:30 pm\nSlam: 8 pm \n$8 in advance at https://www.zeffy.com/en-CA/ticketing/van-slam-ftmagpie-ulysses \n$10-15 @ the door\nNo one turned away for lack of funds. \nVOLUNTEERS welcome! [1 scorekeeper and 1 timekeeper] \nUPDATE: Volunteer spots *1 remaining*  \nPlease email: inclusion@vancouverpoetryhouse.com to claim a volunteer spot for Monday Feb. 2nd\, or register as a volunteer if it’s your first time\, here: https://docs.google.com/forms/d/e/1FAIpQLScUPFM5DwPd2_cKMLI3B2I4UUMpYBQgx5GmyhUn36jPwsBq_A/viewform?usp=dialog \nA note on accessibility \nWe are excited to be venue partners with our friends at Enabling Arts! \nENABLING ARTS is a wheelchair accessible space with an open floor plan and gentle lighting. \nEnabling Arts is a multidisciplinary arts space focused on wellness through the arts hosting community events and workshops for sustainable creative practices in addition to selling books\, local/ curated art\, natural products\, and more. \n*Masks are encouraged to protect our immune compromised and elderly community. Reduced scents are also encouraged for the comfort of everyone* \nAbout the Slam\nVancouver Poetry Slam has been running a slam in Vancouver since the late 80’s. Slam is a sport\, but poetry is the point. \nThe slam offers poets an opportunity to qualify for the April 2026 Van Slam Finals. The feature’s calibre is a testament to the strength of the poetry that is to come. \nSign up for the slam begins promptly at 7:30 pm and there will be a draw for spaces after the 12th spot is filled. \nAll poets entered in the slam will compete in the first round. The four highest-scoring poets after this round will perform again in the second round\, earning points towards ‘Finals’ qualification based on their second-round ranking. \n  \nVan Slam February’s feature is Magpie Ulysses!\nAbout the feature\, Magpie Ulysses \nMagpie is a neurodivergent\, queer\, nature nerd\, garden witch who started performing poems more than 25 years ago. Magpie has performed poems and told stories across North America and is a multiple award winning spoken word artist and beloved veteran of the national and Vancouver poetry slam communities. \nMagpie’s latest works seek questions surrounding genetic memory\, placemaking\, grief\, aging\, our place in the natural world\, survival\, rebellion\, late stage capitalist nightmares and the imminent undoing of our species. http://www.magpieulysses.ca
URL:https://www.vancouverpoetryhouse.com/event/vancouver-poetry-slam-feat-magpie-ulysses/
ATTACH;FMTTYPE=image/png:https://www.vancouverpoetryhouse.com/media/VAN-SLAM-ft.-Carousel.png
END:VEVENT
END:VCALENDAR