BEGIN:VCALENDAR
VERSION:2.0
PRODID:-//Vancouver Poetry House - ECPv6.15.11//NONSGML v1.0//EN
CALSCALE:GREGORIAN
METHOD:PUBLISH
X-ORIGINAL-URL:https://www.vancouverpoetryhouse.com
X-WR-CALDESC:Events for Vancouver Poetry House
REFRESH-INTERVAL;VALUE=DURATION:PT1H
X-Robots-Tag:noindex
X-PUBLISHED-TTL:PT1H
BEGIN:VTIMEZONE
TZID:America/Vancouver
BEGIN:DAYLIGHT
TZOFFSETFROM:-0800
TZOFFSETTO:-0700
TZNAME:PDT
DTSTART:20250309T100000
END:DAYLIGHT
BEGIN:STANDARD
TZOFFSETFROM:-0700
TZOFFSETTO:-0800
TZNAME:PST
DTSTART:20251102T090000
END:STANDARD
BEGIN:DAYLIGHT
TZOFFSETFROM:-0800
TZOFFSETTO:-0700
TZNAME:PDT
DTSTART:20260308T100000
END:DAYLIGHT
BEGIN:STANDARD
TZOFFSETFROM:-0700
TZOFFSETTO:-0800
TZNAME:PST
DTSTART:20261101T090000
END:STANDARD
BEGIN:DAYLIGHT
TZOFFSETFROM:-0800
TZOFFSETTO:-0700
TZNAME:PDT
DTSTART:20270314T100000
END:DAYLIGHT
BEGIN:STANDARD
TZOFFSETFROM:-0700
TZOFFSETTO:-0800
TZNAME:PST
DTSTART:20271107T090000
END:STANDARD
END:VTIMEZONE
BEGIN:VEVENT
DTSTART;TZID=America/Vancouver:20260105T190000
DTEND;TZID=America/Vancouver:20260105T220000
DTSTAMP:20260422T065645
CREATED:20251218T190630Z
LAST-MODIFIED:20251218T193307Z
UID:13335-1767639600-1767650400@www.vancouverpoetryhouse.com
SUMMARY:Vancouver Poetry Slam ft. Miel Enage
DESCRIPTION:Van Slam is back in January with a new look and feature\, Miel Enage! \nLocation: Enabling Arts (343 Railway Street\, Vancouver) \nDoors: 7 pm\nSign up: 7:30 pm\nSlam: 8 pm \n$8 in advance at https://www.zeffy.com/en-CA/ticketing/van-slam-ft-miel-enage \n$10-15 @ the door\nNo one turned away for lack of funds. \nA note on accessibility \nENABLING ARTS is a wheelchair accessible space with an open floor plan and gentle lighting. *Masks are encouraged to protect our immune compromised and elderly community.* \nVancouver Poetry Slam has been running a slam in Vancouver since the late 80’s. Slam is a sport\, but poetry is the point. That being said\, the slam offers poets an opportunity to qualify for the April 2026 Van Slam Finals. All poets in the slam will compete in the first round. The four highest-scoring poets after this round will perform again in the second round\, earning points towards Finals qualification based on their second-round ranking. We are excited to announce we are partnering in January with our friends at Enabling Arts! \n\n\nEnabling Arts is a multidisciplinary arts space focused on wellness through the arts hosting community events and workshops for sustainable creative practices in addition to selling books\, local/ curated art\, natural products\, and more. \n\n\nAbout the feature Miel Enage \nMiel is a second-generation Filipina poet and spoken word artist based in Vancouver. Writing and performing since 2009\, her work explores the intersections of healing\,identity\, womanhood\, ancestral memory\, and self-reclamation. Through her poetry\, Miel traces how love\, loss\, and lineage shape the ways we learn to soften and survive. \nHer first self-published book\, Heal & Conquer (2017)\, reflected on the lessons of leaving an unhealthy relationship and rediscovering her sense of self. She is currently working on her second collection — a deeper exploration of growth\, tenderness\, nuance and the cycles we break to become whole
URL:https://www.vancouverpoetryhouse.com/event/vancouver-poetry-slam-ft-miel-enage/
LOCATION:Enabling Arts\, 343 Railway Street\, Vancouver\, British Columbia\, V6A 1A4\, Canada
CATEGORIES:Van Slam,Vancouver Poetry Slam
ATTACH;FMTTYPE=image/jpeg:https://www.vancouverpoetryhouse.com/media/Miel-Enage-scaled.jpeg
ORGANIZER;CN="Vancouver Poetry House":MAILTO:hello@vancouverpoetryhouse.com
END:VEVENT
END:VCALENDAR