BEGIN:VCALENDAR
VERSION:2.0
PRODID:-//Vancouver Poetry House - ECPv6.15.11//NONSGML v1.0//EN
CALSCALE:GREGORIAN
METHOD:PUBLISH
X-WR-CALNAME:Vancouver Poetry House
X-ORIGINAL-URL:https://www.vancouverpoetryhouse.com
X-WR-CALDESC:Events for Vancouver Poetry House
REFRESH-INTERVAL;VALUE=DURATION:PT1H
X-Robots-Tag:noindex
X-PUBLISHED-TTL:PT1H
BEGIN:VTIMEZONE
TZID:America/Vancouver
BEGIN:DAYLIGHT
TZOFFSETFROM:-0800
TZOFFSETTO:-0700
TZNAME:PDT
DTSTART:20250309T100000
END:DAYLIGHT
BEGIN:STANDARD
TZOFFSETFROM:-0700
TZOFFSETTO:-0800
TZNAME:PST
DTSTART:20251102T090000
END:STANDARD
BEGIN:DAYLIGHT
TZOFFSETFROM:-0800
TZOFFSETTO:-0700
TZNAME:PDT
DTSTART:20260308T100000
END:DAYLIGHT
BEGIN:STANDARD
TZOFFSETFROM:-0700
TZOFFSETTO:-0800
TZNAME:PST
DTSTART:20261101T090000
END:STANDARD
BEGIN:DAYLIGHT
TZOFFSETFROM:-0800
TZOFFSETTO:-0700
TZNAME:PDT
DTSTART:20270314T100000
END:DAYLIGHT
BEGIN:STANDARD
TZOFFSETFROM:-0700
TZOFFSETTO:-0800
TZNAME:PST
DTSTART:20271107T090000
END:STANDARD
END:VTIMEZONE
BEGIN:VEVENT
DTSTART;TZID=America/Vancouver:20260416T080000
DTEND;TZID=America/Vancouver:20260416T170000
DTSTAMP:20260422T031909
CREATED:20260416T233812Z
LAST-MODIFIED:20260416T233812Z
UID:13670-1776326400-1776358800@www.vancouverpoetryhouse.com
SUMMARY:Vancouver Poetry Slam feat. Khaleefa Apollo the Child
DESCRIPTION:Van Slam ft. Khaleefa\, Apollo the Child\nMay 4 👏\nEnabling Arts (343 Railway St.\, Vancouver)\nOpen Mic + Slam Sign-Up 7:30pm 🎤\nShow 8pm\n$8 Advance | $10-15 at the door\n(no one turned away for lack of funds) \nAbout the feature:\nKhaleefa ‘Apollo the Child’ Hamdan is a spoken word poet\, hip hop artist\, and former radio host\, known for his commitment to youth empowerment through the arts. As a former co-director of the Urban Legends Poetry Collective\, he pioneered the Youth Speak program in collaboration with the Ottawa Public Library\, providing free after-school writing opportunities for young people.\nApollo’s impactful work includes his celebrated cinepoem\, “My Hero Drives a Cab\,” which has been featured on Button Poetry\, as well as his participation in the CBC documentary “In Their Words.” A seasoned representative of Ottawa\, he has showcased his talent on nine national stages.\n🎉
URL:https://www.vancouverpoetryhouse.com/event/vancouver-poetry-slam-feat-khaleefa-apollo-the-child/
END:VEVENT
END:VCALENDAR